BEGIN:VCALENDAR
VERSION:2.0
PRODID:-//イルチブレインヨガ公式サイト - ECPv6.15.16//NONSGML v1.0//EN
CALSCALE:GREGORIAN
METHOD:PUBLISH
X-WR-CALNAME:イルチブレインヨガ公式サイト
X-ORIGINAL-URL:https://ilchibrainyoga.com
X-WR-CALDESC:イルチブレインヨガ公式サイト のイベント
REFRESH-INTERVAL;VALUE=DURATION:PT1H
X-Robots-Tag:noindex
X-PUBLISHED-TTL:PT1H
BEGIN:VTIMEZONE
TZID:Asia/Tokyo
BEGIN:STANDARD
TZOFFSETFROM:+0900
TZOFFSETTO:+0900
TZNAME:JST
DTSTART:20240101T000000
END:STANDARD
END:VTIMEZONE
BEGIN:VEVENT
DTSTART;TZID=Asia/Tokyo:20250906T093000
DTEND;TZID=Asia/Tokyo:20250906T110000
DTSTAMP:20260420T143532
CREATED:20250822T050800Z
LAST-MODIFIED:20250822T051801Z
UID:81702-1757151000-1757156400@ilchibrainyoga.com
SUMMARY:【姫路】腸·脳ヨガ·瞑想体験会
DESCRIPTION:夏の疲れが残り秋への変化で自律神経が乱れやすい時季。\n東洋のトレーニングがベースのカンタンな動きでめぐりサポート！\n自律神経のバランスを整え体も心もスッキリ！\n心地よい眠りをサポート！\n幸せ&やる気ホルモンも分泌されます。\n難しいポーズなし、硬くてもできます！ \n【日時】9/6(土)9:30～11:00\n【場所】姫路市民会館 4F 第2和室\n　　　　姫路市総社本町112\n【参加費】900円\n【内容】 腸をほぐす運動、呼吸、エネルギー瞑想、脳活性化体操\n【持ち物】 ヨガマットかバスタオル、飲み物\n先着 5名様まで　初心者 OK  \nお問合せ、ご予約 📞079-283-6363 \n\nLINEからのお申し込みはこちら⇒https://lin.ee/7jrsfbQ \n\n\n  \n\n\n\n\n	\n	\n	 \n	\n		\n			\n				ご予約内容\n						（必須）\n						\n				 \n			\n			\n				体験レッスンイベント体験レッスン+オーラ撮影オーラ撮影問合せ\n※ 入会予約はこちらからお申し込みください\n				 \n			\n		\n		\n			\n				お名前\n						（必須）\n						\n				 \n			\n			\n				\n				 \n			\n		\n		\n			\n				メールアドレス\n						（必須）\n						\n				 \n			\n			\n				\n※ 携帯電話のメールアドレスをご入力の際は、ドメイン指定の設定をされている場合”＠ilchibrainyoga.com”からのメールを受け取ることができるように設定してください。\n				 \n			\n		\n		\n			\n				お電話番号（携帯可）\n						（必須）\n						\n				 \n			\n			\n				イルチブレインヨガ各店舗からの連絡が可能な番号をご入力ください。\n\n				 \n			\n		\n		\n			\n				ご予約希望日時\n				 \n			\n			\n				ご予約希望日時をお選びください\n【希望日】タイムスケジュールに記載があるクラスからお選びください\n\n時間帯を選択してください10時台のクラス14時台のクラス18時台のクラス午前のイベント午後のイベント夜のイベント\n				 \n				※ ご予約状況等によりご希望の日時に添えない場合もございます。その際は事前に調整を行う連絡をさせていただきますので予めご了承ください。\n\n				 \n			\n		\n		\n			\n				こちらのスタジオを何でお知りになりましたか？\n						 （必須）\n						\n				 \n			\n			\n				チラシ看板書籍雑誌紹介Yahoo検索Google検索口コミその他Webサイト\n				 \n			\n		\n		\n			\n				ご関心があること、習得したいこと（複数可）\n				 \n			\n			\n				自然治癒力アップ集中力アップダイエット体質改善ストレス軽減丹田強化呼吸法瞑想法その他（備考欄にご入力ください）\n				 \n			\n		\n		\n			\n				備考欄\n				 \n			\n			\n				\n				 \n			\n		\n	\n	個人情報の取扱い\n		について、同意の上送信します。\n※ ご入力頂いた情報は、株式会社DAHN WORLD JAPANからのご案内をさせて頂く以外の目的では使用致しません。\n		\n	 \n	\n	\n	 \n	※ 送信ボタンを押すとすぐ送信されます。このページで入力内容を確認してください。\n\n自動で完了メールが配信されます。\n	 \nΔ \n\n\n\n株式会社DAHN WORLD JAPAN　ダンワールドジャパン
URL:https://ilchibrainyoga.com/event/himeji-2/
LOCATION:イルチブレインヨガ姫路スタジオ\, 兵庫県姫路市南駅前町 96-1 サウス・ワン3F\, Japan
CATEGORIES:兵庫,姫路
ATTACH;FMTTYPE=image/jpeg:https://ilchibrainyoga.com/wp-content/uploads/2025/05/腸②.jpg
END:VEVENT
BEGIN:VEVENT
DTSTART;TZID=Asia/Tokyo:20250830T140000
DTEND;TZID=Asia/Tokyo:20250927T160000
DTSTAMP:20260420T143532
CREATED:20250827T012648Z
LAST-MODIFIED:20250827T012648Z
UID:81830-1756562400-1758988800@ilchibrainyoga.com
SUMMARY:【姫路】9月27日(土)まで　ドキュメンタリー映画『LOVE HEALS』上映会
DESCRIPTION:「LOVE HEALS」は、世界的パワースポットセドナを舞台に、主人公ダナが痛みと向き合い、\n様々な気づきを得て乗り越えていく過程の中で、癒しの本質を見出していく感動的なドキュメンタリー映画です。\n自分自身の健康だけではなく、自分の人生や周りの人々とのより良い関係を築く上での、アイディアを得ることができます。\nまた、様々な専門家の意見を元に、心身の健康管理に役立つ実践的な方法も伝えています。\n映画を見た後は、すぐに実践できる簡単なトレーニングを体験することができます☆ \n【映画予告】☞\n \n【日程】\n8月30日(土)14：00～16：00\n9月13日(土)14：00～16：00\n9月27日(土)14：00～16：00\n【会場】ILCHI BRAIN YOGA 姫路スタジオ\n姫路市南駅前町96-1 サウスワンビル3階(JR姫路駅南徒歩1分)\n【参加費】　1000円\n【持ち物】　動きやすい服装、タオル、飲み物\n【ご予約】０７９－２８３－６３６３ \n\nLINEからのお申し込みはこちら⇒https://lin.ee/7jrsfbQ \n\n\n  \n\n\n\n\n	\n	\n	 \n	\n		\n			\n				ご予約内容\n						（必須）\n						\n				 \n			\n			\n				体験レッスンイベント体験レッスン+オーラ撮影オーラ撮影問合せ\n※ 入会予約はこちらからお申し込みください\n				 \n			\n		\n		\n			\n				お名前\n						（必須）\n						\n				 \n			\n			\n				\n				 \n			\n		\n		\n			\n				メールアドレス\n						（必須）\n						\n				 \n			\n			\n				\n※ 携帯電話のメールアドレスをご入力の際は、ドメイン指定の設定をされている場合”＠ilchibrainyoga.com”からのメールを受け取ることができるように設定してください。\n				 \n			\n		\n		\n			\n				お電話番号（携帯可）\n						（必須）\n						\n				 \n			\n			\n				イルチブレインヨガ各店舗からの連絡が可能な番号をご入力ください。\n\n				 \n			\n		\n		\n			\n				ご予約希望日時\n				 \n			\n			\n				ご予約希望日時をお選びください\n【希望日】タイムスケジュールに記載があるクラスからお選びください\n\n時間帯を選択してください10時台のクラス14時台のクラス18時台のクラス午前のイベント午後のイベント夜のイベント\n				 \n				※ ご予約状況等によりご希望の日時に添えない場合もございます。その際は事前に調整を行う連絡をさせていただきますので予めご了承ください。\n\n				 \n			\n		\n		\n			\n				こちらのスタジオを何でお知りになりましたか？\n						 （必須）\n						\n				 \n			\n			\n				チラシ看板書籍雑誌紹介Yahoo検索Google検索口コミその他Webサイト\n				 \n			\n		\n		\n			\n				ご関心があること、習得したいこと（複数可）\n				 \n			\n			\n				自然治癒力アップ集中力アップダイエット体質改善ストレス軽減丹田強化呼吸法瞑想法その他（備考欄にご入力ください）\n				 \n			\n		\n		\n			\n				備考欄\n				 \n			\n			\n				\n				 \n			\n		\n	\n	個人情報の取扱い\n		について、同意の上送信します。\n※ ご入力頂いた情報は、株式会社DAHN WORLD JAPANからのご案内をさせて頂く以外の目的では使用致しません。\n		\n	 \n	\n	\n	 \n	※ 送信ボタンを押すとすぐ送信されます。このページで入力内容を確認してください。\n\n自動で完了メールが配信されます。\n	 \nΔ \n\n\n\n株式会社DAHN WORLD JAPAN　ダンワールドジャパン
URL:https://ilchibrainyoga.com/event/himeji-16/
LOCATION:イルチブレインヨガ姫路スタジオ\, 兵庫県姫路市南駅前町 96-1 サウス・ワン3F\, Japan
CATEGORIES:兵庫,兵庫_LH,姫路
ATTACH;FMTTYPE=image/jpeg:https://ilchibrainyoga.com/wp-content/uploads/2024/06/machida_hl.jpg
END:VEVENT
BEGIN:VEVENT
DTSTART;TZID=Asia/Tokyo:20250822T100000
DTEND;TZID=Asia/Tokyo:20250831T203000
DTSTAMP:20260420T143532
CREATED:20250827T012434Z
LAST-MODIFIED:20250827T012434Z
UID:81827-1755856800-1756672200@ilchibrainyoga.com
SUMMARY:【姫路】9月27日(土)まで　腸・脳ヨガ体験会
DESCRIPTION:暑い日が続き、疲れが出ていませんか？\n東洋のトレーニングがベースの簡単な動きで腸を刺激すると、\n幸せホルモン&やる気ホルモンが分泌され、活力が湧きます。\n自分の中心が立ち、主体的な人生を送りやすくなります。\n難しいポーズなし！硬くてもできます！\n【日程】\n8月29日(金)14：00～15：30\n9月3日(水)10：00～11：30\n9月9日(火)14：00～15：30\n9月18日(木)19：00～20：30\n9月27日(土) 10：00～11：30\n※各回先着2名様まで\n【会場】ILCHI BRAIN YOGA 姫路スタジオ\n姫路市南駅前町96-1 サウスワンビル3階(JR姫路駅南徒歩1分)\n【参加費】900円\n【内容】腸をほぐす運動、腸&脳体操、呼吸、リラックス瞑想\n【持ち物】動きやすい服装、飲み物\n【ご予約】０７９－２８３－６３６３ \n\nLINEからのお申し込みはこちら⇒https://lin.ee/7jrsfbQ \n\n\n  \n\n\n\n\n	\n	\n	 \n	\n		\n			\n				ご予約内容\n						（必須）\n						\n				 \n			\n			\n				体験レッスンイベント体験レッスン+オーラ撮影オーラ撮影問合せ\n※ 入会予約はこちらからお申し込みください\n				 \n			\n		\n		\n			\n				お名前\n						（必須）\n						\n				 \n			\n			\n				\n				 \n			\n		\n		\n			\n				メールアドレス\n						（必須）\n						\n				 \n			\n			\n				\n※ 携帯電話のメールアドレスをご入力の際は、ドメイン指定の設定をされている場合”＠ilchibrainyoga.com”からのメールを受け取ることができるように設定してください。\n				 \n			\n		\n		\n			\n				お電話番号（携帯可）\n						（必須）\n						\n				 \n			\n			\n				イルチブレインヨガ各店舗からの連絡が可能な番号をご入力ください。\n\n				 \n			\n		\n		\n			\n				ご予約希望日時\n				 \n			\n			\n				ご予約希望日時をお選びください\n【希望日】タイムスケジュールに記載があるクラスからお選びください\n\n時間帯を選択してください10時台のクラス14時台のクラス18時台のクラス午前のイベント午後のイベント夜のイベント\n				 \n				※ ご予約状況等によりご希望の日時に添えない場合もございます。その際は事前に調整を行う連絡をさせていただきますので予めご了承ください。\n\n				 \n			\n		\n		\n			\n				こちらのスタジオを何でお知りになりましたか？\n						 （必須）\n						\n				 \n			\n			\n				チラシ看板書籍雑誌紹介Yahoo検索Google検索口コミその他Webサイト\n				 \n			\n		\n		\n			\n				ご関心があること、習得したいこと（複数可）\n				 \n			\n			\n				自然治癒力アップ集中力アップダイエット体質改善ストレス軽減丹田強化呼吸法瞑想法その他（備考欄にご入力ください）\n				 \n			\n		\n		\n			\n				備考欄\n				 \n			\n			\n				\n				 \n			\n		\n	\n	個人情報の取扱い\n		について、同意の上送信します。\n※ ご入力頂いた情報は、株式会社DAHN WORLD JAPANからのご案内をさせて頂く以外の目的では使用致しません。\n		\n	 \n	\n	\n	 \n	※ 送信ボタンを押すとすぐ送信されます。このページで入力内容を確認してください。\n\n自動で完了メールが配信されます。\n	 \nΔ \n\n\n\n株式会社DAHN WORLD JAPAN　ダンワールドジャパン
URL:https://ilchibrainyoga.com/event/himeji-3/
LOCATION:イルチブレインヨガ姫路スタジオ\, 兵庫県姫路市南駅前町 96-1 サウス・ワン3F\, Japan
CATEGORIES:兵庫,姫路
ATTACH;FMTTYPE=image/jpeg:https://ilchibrainyoga.com/wp-content/uploads/2025/08/1人ストレッチ③.jpg
END:VEVENT
BEGIN:VEVENT
DTSTART;TZID=Asia/Tokyo:20250822T100000
DTEND;TZID=Asia/Tokyo:20250831T203000
DTSTAMP:20260420T143532
CREATED:20250822T050610Z
LAST-MODIFIED:20250822T051112Z
UID:81700-1755856800-1756672200@ilchibrainyoga.com
SUMMARY:【姫路】8/31（日）まで　🌻夏休み限定🌻🌟スッキリリフレッシュ！ワンコインキャンペーン🌟
DESCRIPTION:暑い日が続いています。\nこの時期にさらに体を管理することが必要です。\n体は心や思考まで繋がっているからです。\n東洋の伝統的なトレーニングをベースにした簡単な動きでめぐりサポート！\n自律神経のバランスを整え、ジメジメだるさにさようなら👋\n難しいポーズなし！硬くてもできます✥ \n🌟開催日　8/31まで（月曜日定休日） \n🌟体験時間(約80分）\n●10：00～(火～日)\n●14：00～(火～日)\n●18：00～(火・金）\n●19：00～(水・木） \n🌟参加費　500円\n（腸ほぐし10分付き） \n🌟内容\n腸をほぐす体操\n脳活性化体操\n呼吸\nエネルギー瞑想 \n🌟持ち物\nタオル\n飲み物\n動きやすい服装 \n🌟場所　ILCHI BRAIN YOGA 姫路スタジオ\n　　姫路市南駅前町96-1サウスワンビル3階 \n🌟お問合せ、ご予約 📞079-283-6363 \n\nLINEからのお申し込みはこちら⇒https://lin.ee/7jrsfbQ \n\n\n  \n\n\n\n\n	\n	\n	 \n	\n		\n			\n				ご予約内容\n						（必須）\n						\n				 \n			\n			\n				体験レッスンイベント体験レッスン+オーラ撮影オーラ撮影問合せ\n※ 入会予約はこちらからお申し込みください\n				 \n			\n		\n		\n			\n				お名前\n						（必須）\n						\n				 \n			\n			\n				\n				 \n			\n		\n		\n			\n				メールアドレス\n						（必須）\n						\n				 \n			\n			\n				\n※ 携帯電話のメールアドレスをご入力の際は、ドメイン指定の設定をされている場合”＠ilchibrainyoga.com”からのメールを受け取ることができるように設定してください。\n				 \n			\n		\n		\n			\n				お電話番号（携帯可）\n						（必須）\n						\n				 \n			\n			\n				イルチブレインヨガ各店舗からの連絡が可能な番号をご入力ください。\n\n				 \n			\n		\n		\n			\n				ご予約希望日時\n				 \n			\n			\n				ご予約希望日時をお選びください\n【希望日】タイムスケジュールに記載があるクラスからお選びください\n\n時間帯を選択してください10時台のクラス14時台のクラス18時台のクラス午前のイベント午後のイベント夜のイベント\n				 \n				※ ご予約状況等によりご希望の日時に添えない場合もございます。その際は事前に調整を行う連絡をさせていただきますので予めご了承ください。\n\n				 \n			\n		\n		\n			\n				こちらのスタジオを何でお知りになりましたか？\n						 （必須）\n						\n				 \n			\n			\n				チラシ看板書籍雑誌紹介Yahoo検索Google検索口コミその他Webサイト\n				 \n			\n		\n		\n			\n				ご関心があること、習得したいこと（複数可）\n				 \n			\n			\n				自然治癒力アップ集中力アップダイエット体質改善ストレス軽減丹田強化呼吸法瞑想法その他（備考欄にご入力ください）\n				 \n			\n		\n		\n			\n				備考欄\n				 \n			\n			\n				\n				 \n			\n		\n	\n	個人情報の取扱い\n		について、同意の上送信します。\n※ ご入力頂いた情報は、株式会社DAHN WORLD JAPANからのご案内をさせて頂く以外の目的では使用致しません。\n		\n	 \n	\n	\n	 \n	※ 送信ボタンを押すとすぐ送信されます。このページで入力内容を確認してください。\n\n自動で完了メールが配信されます。\n	 \nΔ \n\n\n\n株式会社DAHN WORLD JAPAN　ダンワールドジャパン
URL:https://ilchibrainyoga.com/event/himeji/
LOCATION:イルチブレインヨガ姫路スタジオ\, 兵庫県姫路市南駅前町 96-1 サウス・ワン3F\, Japan
CATEGORIES:兵庫,姫路
ATTACH;FMTTYPE=image/jpeg:https://ilchibrainyoga.com/wp-content/uploads/2025/05/3人瞑想②.jpg
END:VEVENT
END:VCALENDAR